BEGIN:VCALENDAR
VERSION:2.0
PRODID:-//pretix//pretix.eu//
BEGIN:VTIMEZONE
TZID:Europe/Vienna
BEGIN:STANDARD
DTSTART:20001029T040000
RRULE:FREQ=YEARLY;BYDAY=-1SU;BYMONTH=10
TZNAME:CET
TZOFFSETFROM:+0200
TZOFFSETTO:+0100
END:STANDARD
BEGIN:DAYLIGHT
DTSTART:20000326T030000
RRULE:FREQ=YEARLY;BYDAY=-1SU;BYMONTH=3
TZNAME:CEST
TZOFFSETFROM:+0100
TZOFFSETTO:+0200
END:DAYLIGHT
END:VTIMEZONE
BEGIN:VTIMEZONE
TZID:Europe/Berlin
BEGIN:STANDARD
DTSTART:20001029T040000
RRULE:FREQ=YEARLY;BYDAY=-1SU;BYMONTH=10
TZNAME:CET
TZOFFSETFROM:+0200
TZOFFSETTO:+0100
END:STANDARD
BEGIN:DAYLIGHT
DTSTART:20000326T030000
RRULE:FREQ=YEARLY;BYDAY=-1SU;BYMONTH=3
TZNAME:CEST
TZOFFSETFROM:+0100
TZOFFSETTO:+0200
END:DAYLIGHT
END:VTIMEZONE
BEGIN:VEVENT
UID:pretix-easygerman-2026-4-22-0@tickets.easygerman.org
DTSTART;TZID=Europe/Vienna:20260422T190000
DTEND;TZID=Europe/Vienna:20260422T220000
DESCRIPTION:Tickets: https://tickets.easygerman.org/2026-4-22/\nOrganizer: 
 Easy German
DTSTAMP:20260424T060606Z
LOCATION:The Social Hub\, Nordbahnstraße 47\, 1020 Vienna\, Austria
SUMMARY:Easy Languages Meetup (Vienna)
END:VEVENT
BEGIN:VEVENT
UID:pretix-easygerman-live-jun-2026-0@tickets.easygerman.org
DTSTART;TZID=Europe/Berlin:20260612T180000
DTEND;TZID=Europe/Berlin:20260612T220000
DESCRIPTION:Tickets: https://tickets.easygerman.org/live-jun-2026/\nOrganiz
 er: Easy German
DTSTAMP:20260424T060606Z
LOCATION:Club Bahnhof Ehrenfeld\, Bartholomäus-Schink-Straße 65/67\, 5082
 5 Cologne
SUMMARY:Easy German Podcast Live (Cologne)
END:VEVENT
BEGIN:VEVENT
UID:pretix-easygerman-2026-7-24-0@tickets.easygerman.org
DTSTART;TZID=Europe/Berlin:20260724T173000
DTEND;TZID=Europe/Berlin:20260724T210000
DESCRIPTION:Tickets: https://tickets.easygerman.org/2026-7-24/\nOrganizer: 
 Easy German
DTSTAMP:20260424T060606Z
LOCATION:Dock Uber Arena\, https://maps.app.goo.gl/RYCM43N5XftEHXot6
SUMMARY:Easy German Summer Party (Berlin)
END:VEVENT
BEGIN:VEVENT
UID:pretix-easygerman-live-sep-2026-0@tickets.easygerman.org
DTSTART;TZID=Europe/Berlin:20260909T180000
DTEND;TZID=Europe/Berlin:20260909T220000
DESCRIPTION:Tickets: https://tickets.easygerman.org/live-sep-2026/\nOrganiz
 er: Easy German
DTSTAMP:20260424T060606Z
LOCATION:Säälchen\, Holzmarktstraße 25\, 10243 Berlin
SUMMARY:Easy German Podcast Live (Berlin)
END:VEVENT
END:VCALENDAR
