BEGIN:VCALENDAR
VERSION:2.0
PRODID:-//pretix//pretix.eu//
BEGIN:VTIMEZONE
TZID:America/Mexico_City
BEGIN:STANDARD
DTSTART:20001029T030000
RRULE:FREQ=YEARLY;BYDAY=5SU;BYMONTH=10;UNTIL=20001029T080000Z
TZNAME:CST
TZOFFSETFROM:-0500
TZOFFSETTO:-0600
END:STANDARD
BEGIN:STANDARD
DTSTART:20010930T030000
RRULE:FREQ=YEARLY;BYDAY=5SU;BYMONTH=9;UNTIL=20010930T080000Z
TZNAME:CST
TZOFFSETFROM:-0500
TZOFFSETTO:-0600
END:STANDARD
BEGIN:STANDARD
DTSTART:20021027T030000
RRULE:FREQ=YEARLY;BYDAY=-1SU;BYMONTH=10
TZNAME:CST
TZOFFSETFROM:-0500
TZOFFSETTO:-0600
END:STANDARD
BEGIN:DAYLIGHT
DTSTART:20000402T030000
RRULE:FREQ=YEARLY;BYDAY=1SU;BYMONTH=4;UNTIL=20000402T090000Z
TZNAME:CDT
TZOFFSETFROM:-0600
TZOFFSETTO:-0500
END:DAYLIGHT
BEGIN:DAYLIGHT
DTSTART:20010506T030000
RRULE:FREQ=YEARLY;BYDAY=1SU;BYMONTH=5;UNTIL=20010506T090000Z
TZNAME:CDT
TZOFFSETFROM:-0600
TZOFFSETTO:-0500
END:DAYLIGHT
BEGIN:DAYLIGHT
DTSTART:20020407T030000
RRULE:FREQ=YEARLY;BYDAY=1SU;BYMONTH=4;UNTIL=20220403T090000Z
TZNAME:CDT
TZOFFSETFROM:-0600
TZOFFSETTO:-0500
END:DAYLIGHT
END:VTIMEZONE
BEGIN:VEVENT
UID:pretix-easygerman-2024-11-15-0@tickets.easygerman.org
DTSTART;TZID=America/Mexico_City:20241115T190000
DTEND;TZID=America/Mexico_City:20241115T220000
DESCRIPTION:Tickets: https://tickets.easygerman.org/2024-11-15/\nOrganizer:
  Easy German
DTSTAMP:20260424T201501Z
LOCATION:<i>Casa Bestia\, Díaz Quintas 111\, RUTA INDEPENDENCIA\, Centro\,
 \, 68000 Oaxaca de Juárez\, <a href="https://maps.app.goo.gl/j7DK1jrsPHQH
 wssB6" target=_blank>(Google Maps)</a></i>
SUMMARY:Easy German Meetup (Oaxaca)
END:VEVENT
END:VCALENDAR
